Workbook

Sheet R@R_data base
B2: Nazwa przedsiębiorstwa / adres
B4: Nr. listu nominacyjnego | F4: R@R data | G4: =TODAY() -> 43846 | I4: SQA | M4: Log
B5: Data listu nominacyjnego | F5: Auditor | I5: SQE | M5: Sales
A6: 0 | B6: ilość zakontaktowana rocznie | D6: 256000 | F6: Firma | I6: AQE/Tech | M6: PM
B8: Numer części | F8: +15% | G8: =(D10*15)/100 -> 15 | I8: GM | M8: HR Man
B9: Nazwa części | F9: 1.15 | G9: =D10+G8 -> 115 | I9: Log. Man | M9: Tech. Man
B10: Ilości w trakcie R@R | D10: 100 | F10: róznica z R@R | G10: =(D16-G9) -> -110 | I10: Pur. Man | M10: Q. Man
B12: Obliczanie zdolności produkcyjnej
A14: 1 | B14: liczba zmian | D14: 1 | K14: NOTATKI
A15: 2 | B15: ilość wyprodukowana | D15: 100 | K15: [zapisz uwagi dotyczace przestojów] [zapisz uwagi dotyczące R@R]
A16: 3 | B16: ilość części Ok | D16: 5
A17: 480 | B17: Ilość części NOk | D17: =D15-D16 -> 95
A18: =2*A17 -> 960 | B18: % ilość wyprodukowana | D18: =100% -> 1
A19: =3*A17 -> 1440 | B19: % ilość części Ok | D19: =(D16*100%)/D15 -> 0.05
A20: pozytywny | B20: % Ilość części NOk | D20: =(D17*100%)/D15 -> 0.95
A21: negatywny | B21: liczba pracowników na linii
A22: brak | B22: czas rozpoczęcia próby
B23: czas zakończenia próby
K24: wyniki auditów | N24: wynik analizy 2TP
K25: VDA6.3 | L25: negatywny | M25: [liczba] | N25: negatywny
K26: Wyniki R@R | L26: negatywny | M26: [liczba]
B28: wypracowane minuty | D28: 480
B29: przestoje w produkcji [ilość]
B30: mikroprzestoje | C30: planowane postoje | D30: pozostałe
A31: ilość | B31: 3 | C31: 2 | D31: 7
A33: uszczegółowienie [w minutach] | B33: 2 | C33: 20 | D33: 2
B34: 3 | C34: 15 | D34: 2
B35: 4 | D35: 1
D36: 5
D37: 1
D38: 1
D39: 3
A41: łącznie | B41: =SUM(B33:B40) -> 9 | C41: =SUM(C33:C40) -> 35 | D41: =+SUM(D33:D40) -> 15
B43: przeliczenie przestojów [minuty]
D44: =D28-(B41+C41+D41) -> 421
A46: godziny | B46: Szacowana produkcja godzinowa
C47: szacowana | D47: osiągnięta
A48: 1 | B48: 10 | C48: =(10*D$10)/D$28 -> 2.0833333
B49: 20 | C49: =(20*D$10)/D$28 -> 4.1666667
B50: 30 | C50: =(30*D$10)/D$28 -> 6.25
...

Sheet R@R_form
D1: CAPACITY VERIFICATION (Production Readiness Review / RUN@RATE)
B4: 1 | C4: Part Number | D4: ='R@R_data base'!D8 -> 0 | F4: 4 | G4: Run@Rate Date | H4: ='R@R_data base'!G4 -> 43846
B5: 2 | C5: Part Description | D5: ='R@R_data base'!D9 -> 0 | F5: 5 | G5: Supplier Name | H5: ='R@R_data base'!D2 -> 0
B6: 3 | C6: Annual Capacity Planning Volume | D6: pcs/year | E6: ='R@R_data base'!D6 -> 256000 | F6: 6 | G6: Supplier Location | H6: ='R@R_data base'!D2 -> 0
B8: 7 | C8: Process Step | E8: STEP 1 | F8: STEP 2 | G8: STEP 3 | H8: STEP 4 | I8: STEP 5 | J8: STEP 6
B9: 8 | C9: Process Description
A11: I - Supplier Working Standards | B11: 9 | C11: Working hours/shift (do not include breaks, lunch, planned maintenance) | D11: hours | E11: 7 | F11: 7
B12: 10 | C12: Shifts/ day | D12: shifts | E12: 1 | F12: 2
B13: 11 | C13: Days/ week | D13: days | E13: 5 | F13: 5
B14: 12 | C14: Weeks/ year | D14: weeks | E14: 48 | F14: 48
B15: 13 | C15: Total hours/year (9*10*11*12) | D15: hours | E15: =+IF(E11="","",IF(E12="","",IF(E13="","",IF(E14="","",E11*E12*E13*E14)))) -> 1680 | F15: =+IF(F11="","",IF(F12="","",IF(F13="","",IF(F14="","",F11*F12*F13*F14)))) -> 3360 | G15: =+IF(G11="","",IF(G12="","",IF(G13="","",IF(G14="","",G11*G12*G13*G14)))) | H15: =+IF(H11="","",IF(H12="","",IF(H13="","",IF(H14="","",H11*H12*H13*H14)))) | I15: =+IF(I11="","",IF(I12="","",IF(I13="","",IF(I14="","",I11*I12*I13*I14)))) | J15: =+IF(J11="","",IF(J12="","",IF(J13="","",IF(J14="","",J11*J12*J13*J14))))
A17: II - Supplier Capacity Data | B17: 14 | C17: % of line dedicated for parts (Allocation %) | D17: % | E17: 1 | F17: 1
B18: 15 | C18: Quoted Production Rate (part # item 1) | D18: pcs/hour | E18: 300 | F18: 250
B19: 16 | C19: Quoted % scrap | D19: % | E19: 0.02 | F19: 0.01
B20: 17 | C20: Quoted % line efficiency | D20: % | E20: 0.99 | F20: 0.99
B21: 18 | C21: Adjusted production rate (15*(1-16)*17) | D21: pcs/hour | E21: =+IF(E18="","",IF(E19="","",IF(E20="","",IF(E18="","",E18*(1-E19)*E20)))) -> 291.06 | F21: =+IF(F18="","",IF(F19="","",IF(F20="","",IF(F18="","",F18*(1-F19)*F20)))) -> 245.025 | G21: =+IF(G18="","",IF(G19="","",IF(G20="","",IF(G18="","",G18*(1-G19)*G20)))) | H21: =+IF(H18="","",IF(H19="","",IF(H20="","",IF(H18="","",H18*(1-H19)*H20)))) | I21: =+IF(I18="","",IF(I19="","",IF(I20="","",IF(I18="","",I18*(1-I19)*I20)))) | J21: =+IF(J18="","",IF(J19="","",IF(J20="","",IF(J18="","",J18*(1-J19)*J20))))
B22: 19 | C22: Available capacity (15*14*(1-16)*17)*13 | D22: pcs/year | E22: =+IF(E15="","",IF(E18="","",IF(E17="","",IF(E19="","",IF(E20="","",(E18*E20*(1-E19)*E15*E17)))))) -> 488980.8 | F22: =+IF(F15="","",IF(F18="","",IF(F17="","",IF(F19="","",IF(F20="","",(F18*F20*(1-F19)*F15*F17)))))) -> 823284 | G22: =+IF(G15="","",IF(G18="","",IF(G17="","",IF(G19="","",IF(G20="","",(G18*G20*(1-G19)*G15*G17)))))) | H22: =+IF(H15="","",IF(H18="","",IF(H17="","",IF(H19="","",IF(H20="","",(H18*H20*(1-H19)*H15*H17)))))) | I22: =+IF(I15="","",IF(I18="","",IF(I17="","",IF(I19="","",IF(I20="","",(I18*I20*(1-I19)*I15*I17)))))) | J22: =+IF(J15="","",IF(J18="","",IF(J17="","",IF(J19="","",IF(J20="","",(J18*J20*(1-J19)*J15*J17))))))
B23: 20 | C23: Utilization % (3/19) | D23: % | E23: =+IF(E15="","",IF(E22="","",$E$6/E22)) -> 0.52353794 | F23: =+IF(F15="","",IF(F22="","",$E$6/F22)) -> 0.31094981 | G23: =+IF(G15="","",IF(G22="","",$E$6/G22)) | H23: =+IF(H15="","",IF(H22="","",$E$6/H22)) | I23: =+IF(I15="","",IF(I22="","",$E$6/I22)) | J23: =+IF(J15="","",IF(J22="","",$E$6/J22))
B24: 21 | C24: Bottleneck operation | D24: X | E24: =+IF(E23=MAX($E$23:$Z$23),"X","") -> X | F24: =+IF(F23=MAX($E$23:$Z$23),"X","") | G24: =+IF(G23=MAX($E$23:$Z$23),"X","") | H24: =+IF(H23=MAX($E$23:$Z$23),"X","") | I24: =+IF(I23=MAX($E$23:$Z$23),"X","") | J24: =+IF(J23=MAX($E$23:$Z$23),"X","")
A26: III - RUN@RATE Results | B26: 22 | C26: Trial run duration (do not include breaks, lunch, planned maintenance). | D26: hour | E26: 6 | F26: 7
B27: 23 | C27: Total parts produced | D27: pcs | E27: 2500 | F27: 5000
B28: 24 | C28: Number of bad parts | D28: pcs | E28: 7 | F28: 2
B29: 25 | C29: First time capability % ((23-24)/24)*100 | D29: % | E29: =+IF(E27="","",IF(E28="","",(E27-E28)/E27)) -> 0.9972 | F29: =+IF(F27="","",IF(F28="","",(F27-F28)/F27)) -> 0.9996 | G29: =+IF(G27="","",IF(G28="","",(G27-G28)/G27)) | H29: =+IF(H27="","",IF(H28="","",(H27-H28)/H27)) | I29: =+IF(I27="","",IF(I28="","",(I27-I28)/I27)) | J29: =+IF(J27="","",IF(J28="","",(J27-J28)/J27))
B30: 26 | C30: Number of good parts (23-24) | D30: pcs | E30: =+IF(E27="","",E27-E28) -> 2493 | F30: =+IF(F27="","",F27-F28) -> 4998 | G30: =+IF(G27="","",G27-G28) | H30: =+IF(H27="","",H27-H28) | I30: =+IF(I27="","",I27-I28) | J30: =+IF(J27="","",J27-J28)
B31: 27 | C31: Net output (26/22) | D31: pcs/ hour | E31: =+IF(E30="","",E30/E26) -> 415.5 | F31: =+IF(F30="","",F30/F26) -> 714 | G31: =+IF(G30="","",G30/G26) | H31: =+IF(H30="","",H30/H26) | I31: =+IF(I30="","",I30/I26) | J31: =+IF(J30="","",J30/J26)
B32: 28 | C32: Takt Time Rate (Target) (3/13*14) | D32: pcs/ hour | E32: =+IF($E$6="","",IF(E17="","",$E$6/(E15*E17))) -> 152.38095 | F32: =+IF($E$6="","",IF(F17="","",$E$6/(F15*F17))) -> 76.190476 | G32: =+IF($E$6="","",IF(G17="","",$E$6/(G15*G17))) | H32: =+IF($E$6="","",IF(H17="","",$E$6/(H15*H17))) | I32: =+IF($E$6="","",IF(I17="","",$E$6/(I15*I17))) | J32: =+IF($E$6="","",IF(J17="","",$E$6/(J15*J17)))
B33: 29 | C33: Downtime (hours) | D33: hour | E33: 0 | F33: 0
B34: 30 | C34: Reason | D34: text only
B36: 31 | C36: Run-Off utilization % (3/(27*13*14)) | D36: % | E36: =+IF(E31="","",$E$6/(E31*E15*E17)) -> 0.36674116 | F36: =+IF(F31="","",$E$6/(F31*F15*F17)) -> 0.10670935 | G36: =+IF(G31="","",$E$6/(G31*G15*G17)) | H36: =+IF(H31="","",$E$6/(H31*H15*H17)) | I36: =+IF(I31="","",$E$6/(I31*I15*I17)) | J36: =+IF(J31="","",$E$6/(J31*J15*J17))
B37: 32 | C37: Bottleneck operation | D37: X | E37: =+IF(E36=MAX($E$36:$Z$36),"X","") -> X | F37: =+IF(F36=MAX($E$36:$Z$36),"X","") | G37: =+IF(G36=MAX($E$36:$Z$36),"X","") | H37: =+IF(H36=MAX($E$36:$Z$36),"X","") | I37: =+IF(I36=MAX($E$36:$Z$36),"X","") | J37: =+IF(J36=MAX($E$36:$Z$36),"X","")
B38: SHADED CELLS ARE CALCULATED and protected | G38: 34 SUMMARY
A39: YES | B39: 33 | C39: RUN@RATE results are acceptable and meet capacity planning volume requirements: | F39: YES | G39: Overall Process | H39: Status | I39: Signature / Date
A40: NO | G40: Utilization %
C41: Corrective actions are required: | E41: Date: | G41: =+MAX(E36:DJ36) -> 0.36674116 | H41: =+IF(G41>1,"Unacceptable","Acceptable") -> Acceptable
C42: New production readiness trial run is required: | E42: Date:

Sheet katra przeliczeń
B1: TABELA PRZELICZANAIA CZASÓW
B3: 0 | C3: 1 | D3: 2 | E3: 3 | F3: 4 | G3: 5 | H3: 6 | I3: 7 | J3: 8 | K3: 9
C4: 0.02 | D4: 0.03 | E4: 0.05 | F4: 0.06 | G4: 0.08 | H4: 0.1 | I4: 0.11 | J4: 0.13 | K4: 0.15
A5: 10 | B5: 0.16 | C5: 0.18 | D5: 0.2 | E5: 0.21 | F5: 0.23 | G5: 0.245 | H5: 0.261 | I5: 0.28 | J5: 0.3 | K5: 0.309
A6: 20 | B6: 0.33 | C6: 0.35 | D6: 0.36 | E6: 0.38 | F6: 0.4 | G6: 0.41 | H6: 0.43 | I6: 0.45 | J6: 0.46 | K6: 0.48
A7: 30 | B7: 0.5 | C7: 0.52 | D7: 0.53 | E7: 0.55 | F7: 0.56 | G7: 0.58 | H7: 0.6 | I7: 0.61 | J7: 0.63 | K7: 0.65
A8: 40 | B8: 0.66 | C8: 0.68 | D8: 0.69 | E8: 0.71 | F8: 0.72 | G8: 0.74 | H8: 0.76 | I8: 0.77 | J8: 0.73 | K8: 0.81
A9: 50 | B9: 0.83 | C9: 0.85 | D9: 0.86 | E9: 0.88 | F9: 0.91 | G9: 0.91 | H9: 0.93 | I9: 0.94 | J9: 0.96 | K9: 0.98
A10: 60 | B10: 1
